Workbook

Sheet Форма 6
F1: Форма 6
A2: СВЕДЕНИЯ О ДОСТИЖЕНИИ ЗНАЧЕНИЙ ЦЕЛЕВЫХ ИНДИКАТОРОВ, ПОКАЗАТЕЛЕЙ МУНИЦИПАЛЬНОЙ ПРОГРАММЫ за 1 полугодие 2020 года
B3: Муниципальной программы «Развитие образования Чугуевского муниципального округа» на 2020 - 2024 годы
A4: № п/п | B4: Целевой индикатор, показатель (наименование) | C4: Единица измерения | D4: Значения целевых индикаторов, показателей муниципальной программы | G4: Обоснование отклонений значений целевого индикатора, показателя на конец отчетного года (при наличии)
D5: в году, предшествующем отчетному финансовому году | E5: в отчетном году
E6: План | F6: Факт
A7: 1 | B7: 2 | C7: 3 | D7: 4 | E7: 5 | F7: 6 | G7: 7
A8: 1. Муниципальная программа «Развитие образования Чугуевского муниципального округа» на 2020 - 2024 годы
A9: 1.1. | B9: Доля выпускников муниципальных общеобразовательных организаций, не сдавших единый государственный экзамен, в общей численности выпускников муниципальных общеобразовательных организаций | C9: % | D9: 3.3 | E9: 3 | F9: 0 | G9: Результатов сдачи ЕГЭ 2020 года еще нет.
A10: 1.2. | B10: Доля детей в возрасте от 5 до 18 лет, охваченных дополнительным образованием | C10: % | D10: 76 | E10: 77 | F10: 76 | G10: Сохраняется сеть
A11: 1.3. | B11: Удельный вес численности обучающихся, занимающихся в первую смену, в общей численности обучающихся общеобразовательных организаций | C11: % | D11: 82 | E11: 84 | F11: 81.6 | G11: В связи с нехваткой педагогических работников увеличилось количество классов во вторую смену
A12: 2. Подпрограмма № 1 «Развитие системы дошкольного образования в Чугуевском муниципальном округе" на 2020-2024 годы
A13: 2.1. | B13: Обеспечение доступности дошкольного образования от 0 до 7 лет (уменьшение общей очереди) % | C13: % | D13: 80 | E13: 80 | F13: 58 | G13: Основная очередь в дошкольные образовательные учреждения с.Чугуевка, недостаточно мест в ДОО.
A14: 2.2. | B14: Количество дополнительных мест в дошкольных организациях для детей в возрасте от 2 месяцев до 3 лет, созданных в ходе реализации муниципальной программы | C14: ед. | D14: 0 | E14: 0 | F14: 0
A15: 2.3. | B15: Доступность дошкольного образования для детей в возрасте от 2 месяцев до 3 лет (отношение численности детей в возрасте от 2 месяцев до 3 лет, получающих дошкольное образование в текущем году, к сумме численности детей в возрасте от 2 месяцев до 3 лет, получающих дошкольное образование в текущем году, и численности детей в возрасте от 2 месяцев до 3 лет, находящихся в очереди на получение в текущем году дошкольного образования) | C15: % | D15: 50 | E15: 50 | F15: 42.2 | G15: недостаточно мест в ДОО для детей детей данной возрастной категории
A16: 3. Подпрограмма № 2 «Развитие системы общего образования в Чугуевском муниципальном округе" на 2020-2024 годы
A17: 3.1. | B17: Количество муниципальных общеобразовательных организаций, в которых были проведены капитальные ремонты зданий | C17: ед. | D17: 0 | E17: 3 | F17: 0
A18: 3.2. | B18: Количество общеобразовательных организаций, в которых отремонтированы спортивные залы | C18: ед. | D18: 0 | E18: 2 | F18: 0
A19: 3.3. | B19: Удельный вес численности обучающихся в образовательных организациях общего образования в соответствии с федеральными государственными образовательными стандартами, в общей численности обучающихся в образовательных организациях общего образования | C19: % | D19: 92 | E19: 96 | F19: 86.7
A20: 3.4. | B20: Доля учащихся 4 - 11 классов, принимающих участие в школьном этапе Всероссийской олимпиады школьников | C20: % | D20: 50 | E20: 51 | F20: 0 | G20: не состоялась
A21: 3.5. | B21: Удельный вес численности высококвалифицированных педагогических работников в общей численности квалифицированных педагогических работников в округе в сфере образования. | C21: % | D21: 50 | E21: 50.5 | F21: 43.2
A22: 3.6. | B22: Удельный вес численности учителей общеобразовательных организаций в возрасте до 35 лет в общей численности учителей общеобразовательных организаций | C22: % | D22: 10.3 | E22: 10.5 | F22: 10.4
A23: 3.7. | B23: Доля общеобразовательных организаций, в которых создана универсальная безбарьерная среда для инклюзивного образования детей-инвалидов, в общем количестве общеобразовательных организаций | C23: % | D23: 24 | E23: 26 | F23: 24
A24: 3.8. | B24: Количество одарённых детей Чугуевского муниципального округа, принявших участие в сменах всероссийских детских образовательных центров | C24: чел. | D24: 4 | E24: 4 | F24: 4
A25: 3.9. | B25: Количество муниципальных учреждений, в которых проведены мероприятия по обеспечению требований пожарной безопасности | C25: ед. | D25: 19 | E25: 19 | F25: 19
A26: 3.10. | B26: Количество общеобразовательных организаций, в которых установлены системы видеонаблюдения и ограждения | C26: ед. | D26: 19 | E26: 19 | F26: 19
A27: 4. Подпрограмма № 3 «Развитие системы дополнительного образования, отдыха, оздоровления и занятости детей и подростков в Чугуевском муниципальном округе" на 2020-2024 годы
A28: 4.1. | B28: Число детей, охваченных деятельностью детских технопарков «Кванториум» (мобильных технопарков «Кванториум») и других проектов, направленных на обеспечение доступности дополнительных общеобразовательных программ естественнонаучной и технической направленностей | C28: чел. | D28: 20 | E28: 31 | F28: 0
A29: 4.2. | B29: Доля детей и подростков, охваченных всеми формами отдыха и оздоровления, занятости от общего числа детей в возрасте от 7 до 17 лет | C29: % | D29: 68 | E29: 70 | F29: 0 | G29: мероприятия по отдыху и оздоровлению детей не проводились в связи с осложнением санитарно-эпидемиологической обстановки
A30: 4.3. | B30: Доля детей и подростков, охваченных льготой из краевого бюджета по оплате стоимости путевки в организации отдыха, от общего числа детей в возрасте от 7 до 15 лет | C30: % | D30: 1 | E30: 1.2 | F30: 0 | G30: мероприятия по отдыху и оздоровлению детей не проводились в связи с осложнением санитарно-эпидемиологической обстановки
A31: 4.4. | B31: Доля оздоровленных детей, находящихся в трудной жизненной ситуации, от общего числа детей от 6 до 17 лет, находящихся в трудной жизненной ситуации, подлежащих оздоровлению | C31: % | D31: 91 | E31: 91.2 | F31: 0 | G31: мероприятия по отдыху и оздоровлению детей не проводились в связи с осложнением санитарно-эпидемиологической обстановки
A32: 4.5. | B32: Доля детей, оздоровленных во всех типах оздоровительных организаций, получивших выраженный оздоровительный эффект | C32: % | D32: 86 | E32: 87 | F32: 0 | G32: мероприятия по отдыху и оздоровлению детей не проводились в связи с осложнением санитарно-эпидемиологической обстановки
A33: 4.6. | B33: Количество функционирующих детских оздоровительных лагерей на базе муниципальных образовательных учреждений | C33: ед. | D33: 18 | E33: 18 | F33: 0 | G33: не функцтонировали в связи с осложнением санитарно-эпидемиологической обстановки
A34: 4.7. | B34: Количество выпускников школ, принявших участие в празднике выпускников школ Чугуевского муниципального округа | C34: чел. | D34: 68 | E34: 109 | F34: 0 | G34: не состоялся

Sheet Форма 7
I1: Форма 7
A2: ОТЧЕТ ОБ ИСПОЛЬЗОВАНИИ БЮДЖЕТНЫХ АССИГНОВАНИЙ БЮДЖЕТА ЧУГУЕВСКОГО МУНИЦИПАЛЬНОГО РАЙОНА НА РЕАЛИЗАЦИЮ МУНИЦИПАЛЬНОЙ ПРОГРАММЫ за 3 квартал 2022 года
A3: 1. МП "Развитие образования Чугуевского муниципального округа" на 2020-2024 годы
A4: № п/п | B4: Наименование муниципальной программы, подпрограммы, отдельного мероприятия | C4: Ответственный исполнитель, соисполнитель | D4: Код бюджетной классификации | I4: Объем расходов (тыс. руб.), годы
D5: ГРБС | E5: РзПр | G5: ЦСт | H5: ВР | I5: сводная бюджетная роспись на 01 января 2022 года | J5: сводная бюджетная роспись на 01.10.2022 г | K5: кассовое исполнение за 9 месяцев 2022 год
E6: Рз | F6: Пр
A7: 1 | B7: 2 | C7: 3 | D7: 4 | E7: 5 | F7: 5 | G7: 6 | H7: 7 | I7: 8 | J7: 9 | K7: 10
A8: 1. | B8: Муниципальная программа «Развитие системы образования Чугуевского муниципального округа» на 2020-2024 годы | C8: Образовательные учреждения, МКУ "ЦООУ" | I8: =I9+I10+I11 -> 7.8118063e+08 | J8: =SUM(J9:J11) -> 8.2363196e+08 | K8: =SUM(K9:K11) -> 502291120 | L8: =O12+L57+L123+L149 -> #REF! | M8: =I8-L8 -> #REF! | O8: 6.7243426e+08 | P8: =O8-K8 -> 1.7014314e+08
C9: федеральный бюджет (иные межбюджетные трансферты) | I9: =I13+I58 -> 36111084 | J9: =J13+J58 -> 36111084 | K9: =K13+K58 -> 21611092
C10: краевой бюджет (субсидии, субвенции, иные межбюджетные трансферты) | I10: =I14+I59+I124 -> 429944115 | J10: =J14+J59+J124 -> 4.5061431e+08 | K10: =K14+K59+K124 -> 2.6552625e+08
C11: бюджет Чугуевского муниципального района | I11: =I15+I60+I125+I149 -> 3.1512544e+08 | J11: =J15+J60+J125+J149 -> 3.3690657e+08 | K11: =K15+K60+K125+K149 -> 2.1515378e+08
A12: 1.1. | B12: Подпрограмма «Развитие дошкольного образования в Чугуевском муниципальном округе» на 2020-2024» годы | C12: Образовательные учреждения, МКУ "ЦООУ" | I12: =SUM(I13:I15) -> 189726302 | J12: =SUM(J13:J15) -> 2.0593006e+08 | K12: =SUM(K13:K15) -> 1.1814636e+08 | L12: =L13+L14+L15 -> 183044375 | M12: =M13+M14+M15 -> 1.8241165e+08 | N12: =N13+N14+N15 -> 1.0966857e+08 | O12: =I16+I21+I49+I51 -> 1712720 | P12: =O12-L12 -> -181331655
C13: федеральный бюджет (иные межбюджетные трансферты) | I13: =I55 -> 0 | J13: =J55 -> 0 | K13: =K55 -> 0 | L13: =I55 -> 0 | M13: =J55 -> 0 | N13: =K55 -> 0
C14: краевой бюджет (субсидии, субвенции, иные межбюджетные трансферты) | I14: =I44+I45+I46+I47+I48++I52+I56 -> 98672252 | J14: =J44+J45+J46+J47+J48++J52+J56 -> 1.0855216e+08 | K14: =K44+K45+K46+K47+K48++K52+K56 -> 63616572 | L14: =I44+I45+I46+I47+I50+I56 -> 92797045 | M14: =J44+J45+J46+J47+J50+J56 -> 1.0277695e+08 | N14: =K44+K45+K46+K47+K50+K56 -> 61279691
C15: бюджет Чугуевского муниципального района | I15: =I17+I18+I19+I20+I21+I23+I24+I25+I26+I27+I29+I30+I31+I33+I34+I35+I36+I37+I38+I39+I40+I41+I42+I43 -> 91054050 | J15: =J17+J18+J19+J20+J21+J23+J24+J25+J26+J27+J29+J30+J31+J33+J34+J35+J36+J37+J38+J39+J40+J41+J42+J43+J50+J54+J28+J32 -> 97377902 | K15: =K17+K18+K19+K20+K21+K23+K24+K25+K26+K27+K29+K30+K31+K33+K34+K35+K36+K37+K38+K39+K40+K41+K42+K43+K50+K54+K28+K32 -> 54529786 | L15: =I17+I18+I19+I20+I23+I24+I25+I26+I33+I34+I35+I36+I37+I38+I39+I41+I42+I54 -> 90247330 | M15: =J17+J18+J19+J20+J23+J24+J25+J26+J33+J34+J35+J36+J37+J38+J39+J41+J42+J54 -> 79634698 | N15: =K17+K18+K19+K20+K23+K24+K25+K26+K33+K34+K35+K36+K37+K38+K39+K41+K42+K54 -> 48388875 | O15: =L17+L18+L19+L23+L24+L25+L26+#REF!+L33+L34+L35+L36+L37+L38+L39+L42+L55 -> #REF! | P15: =M17+M18+M19+M23+M24+M25+M26+#REF!+M33+M34+M35+M36+M37+M38+M39+M42+M55 -> #REF!
A16: 1.1. | B16: Основное мероприятие "Развитие инфраструктуры организаций дошкольного образования" | I16: =SUM(I17:I21) -> 473500 | J16: =SUM(J17:J21) -> 1214280 | K16: =SUM(K17:K21) -> 1137400.7
A17: 1.1.1 | B17: Мероприятия по информатизации системы образования | C17: бюджет Чугуевского муниципального округа | D17: 974 | E17: 07 | F17: 01 | G17: 0110120190 | H17: 244 | I17: 294280 | J17: 250000 | K17: 190210.73 | O17: =J17-K17 -> 59789.27
A18: 1.1.2 | B18: Субсидии бюджетным учреждениям на иные цели (Мероприятия по информатизации системы образования) | C18: бюджет Чугуевского муниципального округа | D18: 974 | E18: 07 | F18: 01 | G18: 0110120190 | H18: 612 | I18: 0 | J18: 44280 | K18: 27190 | O18: =J18-K18 -> 17090
A19: 1.1.3 | B19: Строительство, реконструкция зданий (в том числе проекто-изыскательские работы) | C19: бюджет Чугуевского муниципального округа | D19: 971 | E19: 07 | F19: 01 | G19: 0110170070 | H19: 414 | I19: 0 | J19: 0 | K19: 0 | O19: =J19-K19 -> 0
A20: 1.1.4 | B20: Мероприятия по капитальному ремонту зданий и помещений учреждений (в том числе проектно - изыскательские работы) | C20: бюджет Чугуевского муниципального округа | D20: 974 | E20: 07 | F20: 01 | G20: 0110170080 | H20: 243 | I20: 0 | J20: 920000 | K20: 920000 | O20: =J20-K20 -> 0
A21: 1.1.5 | B21: Капитальный ремонт зданий муниципальных общеобразовательных учреждений, в рамках софинансирования краевого бюджета | C21: бюджет Чугуевского муниципального округа | D21: 974 | E21: 07 | F21: 01 | G21: 01101S2340 | H21: 243 | I21: 179220 | J21: 0 | K21: 0 | O21: =J21-K21 -> 0
A22: 1.2. | B22: Основное мероприятие "Реализация образовательных программ дошкольного образования" | I22: =SUM(I23:I48) -> 188192802 | J22: =SUM(J23:J48) -> 1.9915227e+08 | K22: =SUM(K23:K48) -> 1.1313167e+08 | O22: =J22-K22 -> 86020602
A23: 1.2.1 | B23: Мероприятия по профилактике терроризма и экстремизма | C23: бюджет Чугуевского муниципального округа | D23: 974 | E23: 07 | F23: 01 | G23: 0110220050 | H23: 244 | I23: 500000 | J23: 463760 | K23: 127650 | O23: =J23-K23 -> 336110
A24: 1.2.2 | B24: Субсидии бюджетным учреждениям на иные цели (Мероприятия по профилактике терроризма и экстремизма) | C24: бюджет Чугуевского муниципального округа | D24: 974 | E24: 07 | F24: 01 | G24: 0110220050 | H24: 612 | I24: 0 | J24: 36240 | K24: 12500.16 | O24: =J24-K24 -> 23739.84
A25: 1.2.3 | B25: Мероприятия по по охране труда | C25: бюджет Чугуевского муниципального округа | D25: 974 | E25: 07 | F25: 01 | G25: 0110220060 | H25: 244 | I25: 2243200 | J25: 1593007.4 | K25: 867136.5 | O25: =J25-K25 -> 725870.94
A26: 1.2.4 | B26: Субсидии бюджетным учреждениям на иные цели (Мероприятия по по охране труда) | C26: бюджет Чугуевского муниципального округа | D26: 974 | E26: 07 | F26: 01 | G26: 0110220060 | H26: 612 | I26: 0 | J26: 214192.56 | K26: 131030 | O26: =J26-K26 -> 83162.56
A27: 1.2.5 | B27: Приобретение витамина С для детей, посещающих муниципальные дошкольные учреждения | C27: бюджет Чугуевского муниципального округа | D27: 974 | E27: 07 | F27: 01 | G27: 0110220100 | H27: 244 | I27: 27500 | J27: 25500 | K27: 25000
A28: 1.2.6 | B28: Субсидии бюджетным учреждениям на иные цели (Приобретение витамина С для детей, посещающих муниципальные дошкольные учреждения) | C28: бюджет Чугуевского муниципального округа | D28: 974 | E28: 07 | F28: 01 | G28: 110220100 | H28: 612 | J28: 2000 | K28: 2000
A29: 1.2.7 | B29: Мероприятия по пожарной безопасности | C29: бюджет Чугуевского муниципального округа | D29: 974 | E29: 07 | F29: 01 | G29: 0110220150 | H29: 244 | I29: 600000 | J29: 463240 | K29: 314623.64
A30: 1.2.8 | B30: Субсидии бюджетным учреждениям на иные цели (Мероприятия по пожарной безопасности) | C30: бюджет Чугуевского муниципального округа | D30: 974 | E30: 07 | F30: 01 | G30: 0110220150 | H30: 612 | I30: 0 | J30: 43360 | K30: 18760
A31: 1.2.9 | B31: Расходы на предупреждение распространения коронавирусной инфекции | C31: бюджет Чугуевского муниципального округа | D31: 974 | E31: 07 | F31: 01 | G31: 23298 | H31: 244 | I31: 0 | J31: 168870 | K31: 168660
A32: 1.2.10 | B32: Субсидии бюджетным учреждениям на иные цели (Расходы на предупреждение распространения коронавирусной инфекции) | C32: бюджет Чугуевского муниципального округа | D32: 974 | E32: 07 | F32: 01 | G32: 110229070 | H32: 612 | I32: 0 | J32: 48230 | K32: 47940
A33: 1.2.11 | B33: Расходы на обеспечение деятельности (оказание услуг, выполнение работ) муниципальных учреждений | C33: бюджет Чугуевского муниципального округа | D33: 974 | E33: 07 | F33: 01 | G33: 0110270590 | H33: 111 | I33: 28731850 | J33: 23298068 | K33: 18864391 | O33: =J33-K33 -> 4433677
D34: 974 | E34: 07 | F34: 01 | G34: 0110270590 | H34: 112 | I34: 26400 | J34: 24000 | K34: 3100 | O34: =J34-K34 -> 20900
D35: 974 | E35: 07 | F35: 01 | G35: 0110270590 | H35: 119 | I35: 8700000 | J35: 7058981.4 | K35: 5301947.3 | O35: =J35-K35 -> 1757034.1
D36: 974 | E36: 07 | F36: 01 | G36: 0110270590 | H36: 244 | I36: 30506485 | J36: 30695564 | K36: 14629962 | O36: =J36-K36 -> 16065602
D37: 974 | E37: 07 | F37: 01 | G37: 0110270590 | H37: 851 | I37: 4007795 | J37: 1297870.2 | K37: 612316 | O37: =J37-K37 -> 685554.25
D38: 974 | E38: 07 | F38: 01 | G38: 0110270590 | H38: 852 | I38: 11000 | J38: 22400 | K38: 3500 | O38: =J38-K38 -> 18900
D39: 974 | E39: 07 | F39: 01 | G39: 0110270590 | H39: 853 | I39: 448320 | J39: 422520 | K39: 10231.29 | O39: =J39-K39 -> 412288.71
A40: 1.2.12 | B40: Субсидии бюджетным учреждениям на финансовое обеспечение государственного (муниципального) задания на оказание государственных (муниципальных) услуг (выполнение работ) (Расходы на обеспечение деятельности (оказание услуг, выполнение работ) муниципальных учреждений) | C40: бюджет Чугуевского муниципального округа | D40: 974 | E40: 07 | F40: 01 | G40: 0110270590 | H40: 611 | I40: 0 | J40: 16113771 | K40: 5401016.8
...

Sheet Форма 8
E1: Форма 8
B2: ИНФОРМАЦИЯ О РАСХОДОВАНИИ БЮДЖЕТНЫХ И ВНЕБЮДЖЕТНЫХ СРЕДСТВ НА РЕАЛИЗАЦИЮ МУНИЦИПАЛЬНЫХ ПРОГРАММ за 1 квартал 2022 года
B3: 1. "Развитие образования Чугуевского муниципального округа" на 2020-2024 годы за
A4: № п/п | B4: Наименование подпрограммы, мероприятия, отдельного мероприятия | C4: Источники ресурсного обеспечения | D4: Оценка расходов (в соответствии с муниципальной программой), руб. | E4: Фактические расходы (руб.)
A6: 1 | B6: 2 | C6: 3 | D6: 4 | E6: 5
B7: Муниципальная программа «Развитие образования Чугуевского муниципального округа» на 2020-2024 годы | C7: Всего | D7: =D8+D9+D10 -> 8.2363196e+08 | E7: =E8+E9+E10 -> 502291120
C8: федеральный бюджет (иные межбюджетные трансферты) | D8: =D12+D50 -> 36111084 | E8: =E12+E50 -> 21611092
C9: краевой бюджет (субсидии, субвенции, иные межбюджетные трансферты) | D9: =D13+D51+D103 -> 4.5061431e+08 | E9: =E13+E51+E103 -> 2.6552625e+08
C10: бюджет Чугуевского муниципального округа | D10: =D14+D52+D135+D104 -> 3.3690657e+08 | E10: =E14+E52+E135+E104 -> 2.1515378e+08
A11: 1. | B11: Подпрограмма "Развитие системы дошкольного образования в Чугуевском муниципальном округе" на 2020-2024 годы | C11: Всего | D11: =D12+D13+D14 -> 2.0593006e+08 | E11: =E12+E13+E14 -> 1.1814636e+08
C12: федеральный бюджет (иные межбюджетные трансферты) | D12: =D47 -> 0 | E12: =E47 -> 0
C13: краевой бюджет (субсидии, субвенции, иные межбюджетные трансферты) | D13: =D36+D37+D48+D38+D42 -> 1.0855216e+08 | E13: =E36+E37+E48+E38+E42 -> 63616572
C14: бюджет Чугуевского муниципального округа | D14: =D16+D17+D18+D19+D20+D22+D23+D24+D25+D26+D28+D29+D30+D32+D33+D34+D35+D40+D46+D27+D31 -> 97377902 | E14: =E16+E17+E18+E19+E20+E22+E23+E24+E25+E26+E28+E29+E30+E32+E33+E34+E35+E40+E46+E27+E31 -> 54529786
A15: 1.1. | B15: Основное мероприятие "Развитие инфраструктуры организаций дошкольного образования" | D15: =D16+D17+D18+D19+D20 -> 1214280 | E15: =E16+E17+E18+E19+E20 -> 1137400.7
A16: 1.1.1 | B16: Мероприятия по информатизации системы образования | C16: бюджет Чугуевского муниципального округа | D16: ='[1]Форма 7'!J17 -> 250000 | E16: 190210.73
A17: 1.1.2 | B17: Субсидии бюджетным учреждениям на иные цели (Мероприятия по информатизации системы образования) | C17: бюджет Чугуевского муниципального округа | D17: ='[2]Форма 7'!J18 -> 44280 | E17: 27190
A18: 1.1.3 | B18: Строительство, реконструкция зданий (в том числе проекто-изыскательские работы) | C18: бюджет Чугуевского муниципального округа | D18: ='[2]Форма 7'!J19 -> 0 | E18: ='[2]Форма 7'!K19 -> 0
A19: 1.1.4 | B19: Мероприятия по капитальному ремонту зданий и помещений учреждений (в том числе проектно - изыскательские работы) | C19: бюджет Чугуевского муниципального округа | D19: 920000 | E19: 920000
A20: 1.1.5 | B20: Капитальный ремонт зданий муниципальных общеобразовательных учреждений, в рамках софинансирования краевого бюджета | C20: бюджет Чугуевского муниципального округа | D20: 0 | E20: ='[2]Форма 7'!K21 -> 0
A21: 1.2. | B21: Основное мероприятие "Реализация образовательных программ дошкольного образования" | D21: =SUM(D22:D38) -> 1.9915227e+08 | E21: =SUM(E22:E38) -> 1.1313167e+08
A22: 1.2.1 | B22: Мероприятия по профилактике терроризма и экстремизма | C22: бюджет Чугуевского муниципального округа | D22: 463760 | E22: 127650
A23: 1.2.2 | B23: Субсидии бюджетным учреждениям на иные цели (Мероприятия по профилактике терроризма и экстремизма) | C23: бюджет Чугуевского муниципального округа | D23: ='[2]Форма 7'!J24 -> 36240 | E23: 12500.16
A24: 1.2.3 | B24: Мероприятия по по охране труда | C24: бюджет Чугуевского муниципального округа | D24: 1593007.4 | E24: 867136.5
A25: 1.2.4 | B25: Субсидии бюджетным учреждениям на иные цели (Мероприятия по по охране труда) | C25: бюджет Чугуевского муниципального округа | D25: 214192.56 | E25: 131030
A26: 1.2.5 | B26: Приобретение витамина С для детей, посещающих муниципальные дошкольные учреждения | C26: бюджет Чугуевского муниципального округа | D26: 25500 | E26: 25000
A27: 1.2.6 | B27: Субсидии бюджетным учреждениям на иные цели (Приобретение витамина С для детей, посещающих муниципальные дошкольные учреждения) | C27: бюджет Чугуевского муниципального округа | D27: 2000 | E27: 2000
A28: 1.2.7 | B28: Мероприятия по пожарной безопасности | C28: бюджет Чугуевского муниципального округа | D28: 463240 | E28: 314623.64
A29: 1.2.8 | B29: Субсидии бюджетным учреждениям на иные цели (Мероприятия по пожарной безопасности) | C29: бюджет Чугуевского муниципального округа | D29: ='[2]Форма 7'!J29 -> 43360 | E29: 18760
A30: 1.2.9 | B30: Расходы на предупреждение распространения коронавирусной инфекции | C30: бюджет Чугуевского муниципального округа | D30: 168870 | E30: 168660
A31: 1.2.10 | B31: Субсидии бюджетным учреждениям на иные цели (Расходы на предупреждение распространения коронавирусной инфекции) | D31: 48230 | E31: 47940
A32: 1.2.11 | B32: Расходы на обеспечение деятельности (оказание услуг, выполнение работ) муниципальных учреждений | C32: бюджет Чугуевского муниципального округа | D32: 62819403 | E32: 39425447
A33: 1.2.12 | B33: Субсидии бюджетным учреждениям на финансовое обеспечение государственного (муниципального) задания на оказание государственных (муниципальных) услуг (выполнение работ) (Расходы на обеспечение деятельности (оказание услуг, выполнение работ) муниципальных учреждений) | C33: бюджет Чугуевского муниципального округа | D33: 16113771 | E33: 5401016.8
A34: 1.2.13 | B34: Расходы на приобретение коммунальных услуг | C34: бюджет Чугуевского муниципального округа | D34: 13271797 | E34: 6670331.4
A35: 1.2.14 | B35: Субсидии бюджетным учреждениям на финансовое обеспечение государственного (муниципального) задания на оказание государственных (муниципальных) услуг (выполнение работ) (Расходы на приобретение коммунальных услуг) | C35: бюджет Чугуевского муниципального округа | D35: 778232.9 | E35: 101345.93
A36: 1.2.15 | B36: Субвенции на обеспечение государственных гарантий реализации прав на получение общедоступного и бесплатного дошкольного образования в муниципальных дошкольных образовательных организациях | C36: краевой бюджет (субсидии, субвенции, иные межбюджетные трансферты) | D36: 81127911 | E36: 55994990
A37: 1.2.16 | B37: Субсидии бюджетным учреждениям на финансовое обеспечение государственного (муниципального) задания на оказание государственных (муниципальных) услуг (выполнение работ) (Субвенции на обеспечение государственных гарантий реализации прав на получение общедоступного и бесплатного дошкольного образования в муниципальных дошкольных образовательных организациях) | C37: краевой бюджет (субсидии, субвенции, иные межбюджетные трансферты) | D37: ='[2]Форма 7'!J45 -> 17167550 | E37: 1764792.6
A38: 1.2.17 | B38: Субвенции на выплату компенсации части платы, взимаемой с родителей (законных представителей) за присмотр и уход за детьми, осваивающими образовательные программы дошкольного образования в организациях, осуществляющих образовательную деятельность | C38: краевой бюджет (субсидии, субвенции, иные межбюджетные трансферты) | D38: ='[2]Форма 7'!J46 -> 4815207 | E38: 2058446.3
A39: 1.3. | B39: Основное мероприятие "Формирование доступной среды" | D39: =D40 -> 100000 | E39: =E40 -> 61565
A40: 1.3.1 | B40: Мероприятия для обеспечения доступности и получения услуг инвалидами и другими маломобильными группами инвалидов | C40: бюджет Чугуевского муниципального округа | D40: ='[2]Форма 7'!J48 -> 100000 | E40: 61565
A41: 1.4. | B41: Основное мероприятие "Федеральный проект "Современная школа"" | D41: =D42 -> 1060000 | E41: =E42 -> 340000
...
